BEGIN:VCALENDAR
VERSION:2.0
PRODID:TU Chemnitz
METHOD:PUBLISH
X-WR-CALNAME:Veranstaltungen der TU Chemnitz
X-WR-TIMEZONE:Europe/Berlin
BEGIN:VEVENT
CLASS:PUBLIC
DTSTART;TZID="Europe/Berlin":20141112T134500
DTEND;TZID="Europe/Berlin":20141112T151500
LOCATION:Reichenhainer Str. 70\, Chemnitz (Weinhold-Bau)
SUMMARY:Nutzerforum „Kollaboratives Arbeiten im Web“ (Universitätsrechenzentrum)
DESCRIPTION:Interessierte haben Gelegenheit\, sich zu den Themen „Wiki“\, „Webkonferenzen“ und dem aktuellen Stand des Projektes „MS Exchange” zu informieren.\nY. Mußmacher\, M. Haustein\nAntje Schreiber\, antje.schreiber@hrz.tu-chemnitz.de
ORGANIZER:MAILTO:antje.schreiber@hrz.tu-chemnitz.de
UID:16542@www.tu-chemnitz.de
CREATED:20141105T172900Z
DTSTAMP:20210802T185817Z
END:VEVENT
END:VCALENDAR
