BEGIN:VCALENDAR
VERSION:2.0
PRODID:TU Chemnitz
METHOD:PUBLISH
X-WR-CALNAME:Veranstaltungen der TU Chemnitz
X-WR-TIMEZONE:Europe/Berlin
BEGIN:VEVENT
CLASS:PUBLIC
DTSTART;TZID="Europe/Berlin":20141127T190000
DTEND;TZID="Europe/Berlin":20141127T210000
LOCATION:Reichenhainer Str. 90\, Chemnitz (Zentr. Hörsaal- und Seminargebäude)
SUMMARY:Gastvortrag "Neue Medien und mobile Gläubige zwischen Deutschland und Vietnam" (Philosophische Fakultät\, Professur Interkulturelle Kommunikation)
DESCRIPTION:Auf der Basis ethnographischer Forschungen in Berlin und Hanoi fokussiert der Vortrag auf grenzüberschreitende Praktiken und untersucht\, auf welche Weise Migranten transnationale Verbindungen zw. Deutschland & Vietnam herstellen und aufrechterhalten.\nFrau PD Dr. Gertrud Hüwelmeier (Humboldt-Universität zu Berlin) \nSusanne Held\, Susanne.Held@phil.tu-chemnitz.de
ORGANIZER:MAILTO:marcus.nolden@phil.tu-chemnitz.de
UID:16533@www.tu-chemnitz.de
CREATED:20141104T141500Z
DTSTAMP:20210802T185815Z
END:VEVENT
END:VCALENDAR
