BEGIN:VCALENDAR
VERSION:2.0
PRODID:TU Chemnitz
METHOD:PUBLISH
X-WR-CALNAME:Veranstaltungen der TU Chemnitz
X-WR-TIMEZONE:Europe/Berlin
BEGIN:VEVENT
CLASS:PUBLIC
DTSTART;TZID="Europe/Berlin":20141214T150000
DTEND;TZID="Europe/Berlin":20141214T180000
LOCATION:Schloßbergmuseum Chemnitz - Renaissancesaal
SUMMARY:Still schweigt Kummer und Harm – Weihnachtsfrieden 1914 (Philosophische Fakultät\, Romanische Kulturwissenschaft)
DESCRIPTION:Weihnachten 1914 verbrüdern sich britische\, deutsche & französische Soldaten auf Streckenabschnitten der Westfront. CollageKonzert zum Weihnachtsfrieden 1914 mit Zeitzeugnissen\, Texten & Kompositionen von 1914 und aus der Jetztzeit. Eintritt frei\nJörg Kersten\, Olivia Gladosch und ENT_RÜSTET\nMartin Bauch\, 0371/531-37677\, martin.bauch@phil.tu-chemnitz.de
ORGANIZER:MAILTO:martin.bauch@phil.tu-chemnitz.de
UID:16530@www.tu-chemnitz.de
CREATED:20141103T161300Z
DTSTAMP:20210802T185704Z
END:VEVENT
END:VCALENDAR
