BEGIN:VCALENDAR
VERSION:2.0
PRODID:TU Chemnitz
METHOD:PUBLISH
X-WR-CALNAME:Veranstaltungen der TU Chemnitz
X-WR-TIMEZONE:Europe/Berlin
BEGIN:VEVENT
CLASS:PUBLIC
DTSTART;TZID="Europe/Berlin":20141105T210000
DTEND;TZID="Europe/Berlin":20141105T230000
LOCATION:Kino\, Reichenhainer Str. 35/37\, Keller
SUMMARY:["mittendrin" * campuskino] REIHE "NEUES POLNISCHES KINO": Z DALEKA WIDOK JEST PIEKNY / FERNER SCHÖNER SCHEIN (OmdU) - Eintritt frei!! (filmclub »mittendrin«)
DESCRIPTION:Eine Veranstaltung der Filiale Leipzig des Polnischen Instituts Berlin in Zusammenarbeit mit dem Institut für Europäische Studien und dem Institut für Europäische Geschichte der TU Chemnitz\nfilmclub@tu-chemnitz.de
ORGANIZER:MAILTO:robert.gerstenberger@s2004.tu-chemnitz.de
UID:16527@www.tu-chemnitz.de
CREATED:20141103T145600Z
DTSTAMP:20210802T185810Z
END:VEVENT
END:VCALENDAR
