BEGIN:VCALENDAR
VERSION:2.0
PRODID:TU Chemnitz
METHOD:PUBLISH
X-WR-CALNAME:Veranstaltungen der TU Chemnitz
X-WR-TIMEZONE:Europe/Berlin
BEGIN:VEVENT
CLASS:PUBLIC
DTSTART;TZID="Europe/Berlin":20141210T171500
DTEND;TZID="Europe/Berlin":20141210T184500
LOCATION:Wilhelm-Raabe-Str. 43\, Chemnitz
SUMMARY:Institutskolloquim Psychologie (Fakultät für Human- und Sozialwissenschaften)
DESCRIPTION:"Altersgemischte Teamarbeit und altern(s)gerechte Führung"\nProf. Dr. Jürgen Wegge\, TU Dresden\nSabine Dittrich. Tel. 36313
ORGANIZER:MAILTO:sabine.dittrich@psychologie.tu-chemnitz.de
UID:16522@www.tu-chemnitz.de
CREATED:20141103T092100Z
DTSTAMP:20210802T185700Z
END:VEVENT
END:VCALENDAR
