BEGIN:VCALENDAR
VERSION:2.0
PRODID:TU Chemnitz
METHOD:PUBLISH
X-WR-CALNAME:Veranstaltungen der TU Chemnitz
X-WR-TIMEZONE:Europe/Berlin
BEGIN:VEVENT
CLASS:PUBLIC
DTSTART;TZID="Europe/Berlin":20141114T110000
DTEND;TZID="Europe/Berlin":20141114T123000
LOCATION:Reichenhainer Str. 39\, Chemnitz
SUMMARY:Öffentliche Prüfung im Promotionsverfahren (Fakultät für Mathematik)
DESCRIPTION:Dipl.-Math. oec. Frank Gehmlich\nThema: A General Approach to Credit Risk Modeling - Beyond Continuous Characteristics
ORGANIZER:MAILTO:margit.matt@mathematik.tu-chemnitz.de
UID:16518@www.tu-chemnitz.de
CREATED:20141029T102800Z
DTSTAMP:20210802T185812Z
END:VEVENT
END:VCALENDAR
