BEGIN:VCALENDAR
VERSION:2.0
PRODID:TU Chemnitz
METHOD:PUBLISH
X-WR-CALNAME:Veranstaltungen der TU Chemnitz
X-WR-TIMEZONE:Europe/Berlin
BEGIN:VEVENT
CLASS:PUBLIC
DTSTART;TZID="Europe/Berlin":20010905T080000
DTEND;TZID="Europe/Berlin":20010907T120000
LOCATION:Uni-Teil 3: Reichenhainer Str. 70\, Chemnitz (Zentr. Hörsaal- und Seminargebäude)
SUMMARY:Verbundwerkstoffe und Werkstoffverbunde (Fakultät für Maschinenbau und Verfahrenstechnik\, Lehrstuhl für Verbundwerkstoffe)
DESCRIPTION:Werkstoff- und Bauteileigenschaften und die zugehörigen Herstellungstechnologien sowie die Nutzung von Synergieeffekten zwischen den einzelnen Disziplinen der Verbundwerkstoffforschung werden diskutiert.\ninfo@wsk.tu-chemnitz.de
ORGANIZER:MAILTO:ihoy@hrz.tu-chemnitz.de
UID:1650@www.tu-chemnitz.de
CREATED:20010424T133200Z
DTSTAMP:20210802T202709Z
END:VEVENT
END:VCALENDAR
