BEGIN:VCALENDAR
VERSION:2.0
PRODID:TU Chemnitz
METHOD:PUBLISH
X-WR-CALNAME:Veranstaltungen der TU Chemnitz
X-WR-TIMEZONE:Europe/Berlin
BEGIN:VEVENT
CLASS:PUBLIC
DTSTART;TZID="Europe/Berlin":20141112T180000
DTEND;TZID="Europe/Berlin":20141112T200000
LOCATION:Str. der Nationen 12\, Chemnitz (Rawema-Gebäude)
SUMMARY:"Laborschule Bielefeld: Gemeinsames Lernen in einer Schule für alle" (Zentrum für Lehrerbildung\, Professur Schulpädagogik der Primarstufe)
DESCRIPTION:Der Vortrag finden im Rahmen der Vortragsreihe "Innovative Schulkonzepte" statt.\nUlrich Bosse\nInformationen unter: zlb@tu-chemnitz.de
ORGANIZER:MAILTO:sabrina.theiler@zlb.tu-chemnitz.de
UID:16471@www.tu-chemnitz.de
CREATED:20141015T101600Z
DTSTAMP:20210802T185814Z
END:VEVENT
END:VCALENDAR
