BEGIN:VCALENDAR
VERSION:2.0
PRODID:TU Chemnitz
METHOD:PUBLISH
X-WR-CALNAME:Veranstaltungen der TU Chemnitz
X-WR-TIMEZONE:Europe/Berlin
BEGIN:VEVENT
CLASS:PUBLIC
DTSTART;TZID="Europe/Berlin":20141028T180000
DTEND;TZID="Europe/Berlin":20141028T200000
LOCATION:Str. der Nationen 12\, Chemnitz (Rawema-Gebäude)
SUMMARY:Heterogenität als Herausforderung für das Lehrerhandeln im Unterricht - Konzepte und Fallstricke (Zentrum für Lehrerbildung\, Professur Schulpädagogik der Primarstufe)
DESCRIPTION:Die Veranstaltung findet im Rahmen der Vortragsreihe "Umgang mit Heterogenität in der Grundschule" statt. Weitere Vorträge finden am 25.11.2014\, 16.12.2014 und 03.02.2015 statt.\nProf. Dr. Beate Wischer\, Universität Osnabrück\nInformationen unter: zlb@tu-chemnitz.de
ORGANIZER:MAILTO:sabrina.theiler@zlb.tu-chemnitz.de
UID:16466@www.tu-chemnitz.de
CREATED:20141015T095600Z
DTSTAMP:20210802T190004Z
END:VEVENT
END:VCALENDAR
