BEGIN:VCALENDAR
VERSION:2.0
PRODID:TU Chemnitz
METHOD:PUBLISH
X-WR-CALNAME:Veranstaltungen der TU Chemnitz
X-WR-TIMEZONE:Europe/Berlin
BEGIN:VEVENT
CLASS:PUBLIC
DTSTART;TZID="Europe/Berlin":20141010T120000
DTEND;TZID="Europe/Berlin":20141010T160000
LOCATION:Reichenhainer Str. 70\, Chemnitz (Weinhold-Bau)
SUMMARY:Unternehmensberatung stellt sich vor. (TU Chemnitz)
DESCRIPTION:Interessierte Studenten lernen die studentische Unternehmensberatung der TU-Chemnitz\, jungblick-consulting e.V.\, kennen. Du erhältst Infos zu Deinen Möglichkeiten und den bisherigen Projekten. Wir freuen uns auf Dich.\njungblick consulting e.V.\, alexander.krauss@jungblick.de
ORGANIZER:MAILTO:alexander.krauss@wirtschaft.tu-chemnitz.de
UID:16436@www.tu-chemnitz.de
CREATED:20141008T193700Z
DTSTAMP:20210802T190006Z
END:VEVENT
END:VCALENDAR
