BEGIN:VCALENDAR
VERSION:2.0
PRODID:TU Chemnitz
METHOD:PUBLISH
X-WR-CALNAME:Veranstaltungen der TU Chemnitz
X-WR-TIMEZONE:Europe/Berlin
BEGIN:VEVENT
CLASS:PUBLIC
DTSTART;TZID="Europe/Berlin":20141022T090000
DTEND;TZID="Europe/Berlin":20141022T150000
LOCATION:Wilhelm-Raabe-Str. 43\, Chemnitz
SUMMARY:Besetzungsverfahren für die W1-Juniorprofessur „Techniksoziologie mit dem Schwerpunkt Internet und Neue Medien“  (Fakultät für Human- und Sozialwissenschaften\, Institut für Soziologie)
DESCRIPTION:Im Rahmen des Besetzungsverfahrens für die W1-Juniorprofessur „Techniksoziologie mit dem Schwerpunkt Internet und Neue Medien“ finden am Mittwoch\, 22.10.2014\, Wilhelm-Raabe-Straße 43 im Raum 104 die Vorträge statt.\nHerr Dr. Sebastian Gießmann\, Herr Dr. Christian Papsdorf\, Herr Dr. Christian Pentzold\nProf. Dr. Thomas Kern
ORGANIZER:MAILTO:katrin.schubert@hsw.tu-chemnitz.de
UID:16432@www.tu-chemnitz.de
CREATED:20141007T134500Z
DTSTAMP:20210802T190010Z
END:VEVENT
END:VCALENDAR
