BEGIN:VCALENDAR
VERSION:2.0
PRODID:TU Chemnitz
METHOD:PUBLISH
X-WR-CALNAME:Veranstaltungen der TU Chemnitz
X-WR-TIMEZONE:Europe/Berlin
BEGIN:VEVENT
CLASS:PUBLIC
DTSTART;VALUE=DATE:20141006
DTEND;VALUE=DATE:20141013
LOCATION:Djerba\, Tunesien
SUMMARY:Workshop Dirichlet Forms\, Operator Theory and Mathematical Physics (Fakultät für Mathematik)
DESCRIPTION:Funded by DAAD\nOrganised by Ali Ben Amor (Gabes & Tunis)\, Ralph Chill (Dresden)\, Daniel Lenz (Jena)\, Peter Stollmann (Chemnitz) 
ORGANIZER:MAILTO:margit.matt@mathematik.tu-chemnitz.de
UID:16409@www.tu-chemnitz.de
CREATED:20141006T094100Z
DTSTAMP:20210802T190001Z
END:VEVENT
END:VCALENDAR
