BEGIN:VCALENDAR
VERSION:2.0
PRODID:TU Chemnitz
METHOD:PUBLISH
X-WR-CALNAME:Veranstaltungen der TU Chemnitz
X-WR-TIMEZONE:Europe/Berlin
BEGIN:VEVENT
CLASS:PUBLIC
DTSTART;TZID="Europe/Berlin":20150312T090000
DTEND;TZID="Europe/Berlin":20150312T090000
LOCATION:Str. der Nationen 62\, Chemnitz (Böttcher-Bau)
SUMMARY:Zeit-\, Selbst- und Stressmanagement (Kompetenzschule)
DESCRIPTION:WissenschaftlerInnen sind immer dynamischer werdenden Arbeitsumgebungen ausgesetzt\, die zur Verfügung stehende Arbeitszeit wird zu einer knappen Ressource. In diesem Kurs werden Grundlagen eines effektiven Selbst- und Zeitmanagements vermittelt.\nOnline-Anmeldung unter: https://www.tu-chemnitz.de/fa/weiterbildungsprogramm/fuehrungs-managementkompetenzen.php#sm
ORGANIZER:MAILTO:kompetenzschule@tu-chemnitz.de
UID:16405@www.tu-chemnitz.de
CREATED:20141001T144000Z
DTSTAMP:20210802T185346Z
END:VEVENT
END:VCALENDAR
