BEGIN:VCALENDAR
VERSION:2.0
PRODID:TU Chemnitz
METHOD:PUBLISH
X-WR-CALNAME:Veranstaltungen der TU Chemnitz
X-WR-TIMEZONE:Europe/Berlin
BEGIN:VEVENT
CLASS:PUBLIC
DTSTART;TZID="Europe/Berlin":20141215T133000
DTEND;TZID="Europe/Berlin":20141215T180000
LOCATION:Str. der Nationen 62\, Chemnitz (Böttcher-Bau)
SUMMARY:Konstruktiv und erfolgreich Gespräche führen (Kompetenzschule)
DESCRIPTION: Im Workshop lernen Sie\, mit anspruchsvollen und kritischen Gesprächssituationen umzugehen und Ihre kommunikativen Fähigkeiten zu verbessern. In Übungen erproben Sie dabei Techniken\, um Gespräche in jeder Lebenslage konstruktiv führen zu können.\nOnline-Anmeldung unter: https://www.tu-chemnitz.de/fa/weiterbildungsprogramm/fuehrungs-managementkompetenzen.php#mut
ORGANIZER:MAILTO:kompetenzschule@tu-chemnitz.de
UID:16397@www.tu-chemnitz.de
CREATED:20141001T134400Z
DTSTAMP:20210802T185700Z
END:VEVENT
END:VCALENDAR
