BEGIN:VCALENDAR
VERSION:2.0
PRODID:TU Chemnitz
METHOD:PUBLISH
X-WR-CALNAME:Veranstaltungen der TU Chemnitz
X-WR-TIMEZONE:Europe/Berlin
BEGIN:VEVENT
CLASS:PUBLIC
DTSTART;TZID="Europe/Berlin":20141117T100000
DTEND;TZID="Europe/Berlin":20141118T160000
LOCATION:Str. der Nationen 62\, Chemnitz (Böttcher-Bau)
SUMMARY:Teamfähigkeit durch Persönlichkeitstraining (Kompetenzschule)
DESCRIPTION:Unter Nutzung des weltweit eingesetzten und wissenschaftlich abgesicherten persolog® Persönlichkeits-Profils lernen Sie\, Ihr Verhalten und das anderer besser zu verstehen und damit Ihre sozialen Kompetenzen zu verbessern.\nOnline-Anmeldung unter: https://www.tu-chemnitz.de/fa/weiterbildungsprogramm/fuehrungs-managementkompetenzen.php#mut
ORGANIZER:MAILTO:kompetenzschule@tu-chemnitz.de
UID:16388@www.tu-chemnitz.de
CREATED:20141001T110200Z
DTSTAMP:20210802T185818Z
END:VEVENT
END:VCALENDAR
