BEGIN:VCALENDAR
VERSION:2.0
PRODID:TU Chemnitz
METHOD:PUBLISH
X-WR-CALNAME:Veranstaltungen der TU Chemnitz
X-WR-TIMEZONE:Europe/Berlin
BEGIN:VEVENT
CLASS:PUBLIC
DTSTART;TZID="Europe/Berlin":20141105T140000
DTEND;TZID="Europe/Berlin":20141105T180000
LOCATION:Str. der Nationen 62\, Chemnitz (Böttcher-Bau)
SUMMARY:Wie manage ich meinen Publikationsindex? (Forschungsakademie)
DESCRIPTION:Der Workshop richtet sich an ForscherInnen\, die ihre wissenschaftliche Karriere unter Berücksichtigung bibliometrischer Daten organisieren wollen. Es wird der Nachteil des Journal Impact Factor aufgezeigt und als Alternative der Hirsch-Index diskutiert.\nOnline-Anmeldung unter: https://www.tu-chemnitz.de/fa/weiterbildungsprogramm/akademische-schluesselkompetenzen.php#ff
ORGANIZER:MAILTO:kompetenzschule@tu-chemnitz.de
UID:16386@www.tu-chemnitz.de
CREATED:20141001T104200Z
DTSTAMP:20210802T185812Z
END:VEVENT
END:VCALENDAR
