BEGIN:VCALENDAR
VERSION:2.0
PRODID:TU Chemnitz
METHOD:PUBLISH
X-WR-CALNAME:Veranstaltungen der TU Chemnitz
X-WR-TIMEZONE:Europe/Berlin
BEGIN:VEVENT
CLASS:PUBLIC
DTSTART;TZID="Europe/Berlin":20141021T093000
DTEND;TZID="Europe/Berlin":20141021T163000
LOCATION:Str. der Nationen 62\, Chemnitz (Böttcher-Bau)
SUMMARY:Writing Skills - Thesen bilden und argumentieren (Aufbaukurs) (Forschungsakademie)
DESCRIPTION:Warum werden manche Texte häufig und andere gar nicht zitiert? Erst mit einer spannenden These und einer klaren Argumentation können WissenschaftlerInnen die scientific community zu Reaktionen herausfordern.\nOnline-Anmeldung unter: https://www.tu-chemnitz.de/fa/weiterbildungsprogramm/akademische-schluesselkompetenzen.php
ORGANIZER:MAILTO:kompetenzschule@tu-chemnitz.de
UID:16384@www.tu-chemnitz.de
CREATED:20141001T103000Z
DTSTAMP:20210802T190005Z
END:VEVENT
END:VCALENDAR
