BEGIN:VCALENDAR
VERSION:2.0
PRODID:TU Chemnitz
METHOD:PUBLISH
X-WR-CALNAME:Veranstaltungen der TU Chemnitz
X-WR-TIMEZONE:Europe/Berlin
BEGIN:VEVENT
CLASS:PUBLIC
DTSTART;TZID="Europe/Berlin":20150521T090000
DTEND;TZID="Europe/Berlin":20150521T160000
LOCATION:Messe Chemnitz
SUMMARY:Forum Chemnitz 2020 (P3N MARKETING GMBH und Messe Chemnitz\, wissenschaftliche Begleitung: Professur Arbeitswissenschaft und Innovationsmanagement )
DESCRIPTION:"Chemnitz 2020 – Forum für Kooperation\, Innovation & Netzwerke“ ist eine neue Informations- und Kommunikationsplattform für die Dienstleistungswirtschaft und ein Impulsgeber für neue Ideen\, Produkte und Dienstleistungen.\nwww.forum-chemnitz2020.de
ORGANIZER:MAILTO:annika.feldhoff@mb.tu-chemnitz.de
UID:16382@www.tu-chemnitz.de
CREATED:20141001T100300Z
DTSTAMP:20210802T185044Z
END:VEVENT
END:VCALENDAR
