BEGIN:VCALENDAR
VERSION:2.0
PRODID:TU Chemnitz
METHOD:PUBLISH
X-WR-CALNAME:Veranstaltungen der TU Chemnitz
X-WR-TIMEZONE:Europe/Berlin
BEGIN:VEVENT
CLASS:PUBLIC
DTSTART;TZID="Europe/Berlin":20141007T080000
DTEND;TZID="Europe/Berlin":20141118T150000
LOCATION:Wahlvorschläge können bis zum 21.Oktober 2014\,15.00 Uhr\, im Raum 1/111a eingereicht werden.
SUMMARY:Wahl der Schwerbehindertenvertretung der TU Chemnitz (Wahlvorstand der Schwerbehindertenvertretung)
DESCRIPTION:Alle an der TU beschäftigten schwerbehinderten Menschen sind aufgerufen\, Wahlvorschläge einzureichen und ihre Stimme abzugeben. Zu wählen sind die Vertrauensperson und zwei stellvertretende Mitglieder.\nKatja Stolpe\, 0371 531-35586\, katja.stolpe@verwaltung.tu-chemnitz.de
ORGANIZER:MAILTO:katja.stolpe@verwaltung.tu-chemnitz.de
UID:16375@www.tu-chemnitz.de
CREATED:20140929T111400Z
DTSTAMP:20210802T190002Z
END:VEVENT
END:VCALENDAR
