BEGIN:VCALENDAR
VERSION:2.0
PRODID:TU Chemnitz
METHOD:PUBLISH
X-WR-CALNAME:Veranstaltungen der TU Chemnitz
X-WR-TIMEZONE:Europe/Berlin
BEGIN:VEVENT
CLASS:PUBLIC
DTSTART;TZID="Europe/Berlin":20141113T180000
DTEND;TZID="Europe/Berlin":20141113T213000
LOCATION:Erfenschlager Straße 73 - Projekthaus METEOR
SUMMARY:Tag der einfachen Produkte (Fakultät für Maschinenbau\, Professur Arbeitswissenschaft und Innovationsmanagement)
DESCRIPTION:Zum Tag der einfachen Produkte veranstaltet die Professur AW&I auch 2014 einen Ideenwettbewerb. Die Gewinner werden im Rahmen der Veranstaltung in einem Slam ermittelt. Außerdem runden Vorträge rund um das Thema Benutzerfreundlichkeit den Abend ab.\nKeine Anmeldung nötig
ORGANIZER:MAILTO:max.bernhagen@mb.tu-chemnitz.de
UID:16372@www.tu-chemnitz.de
CREATED:20140926T125000Z
DTSTAMP:20210802T185816Z
END:VEVENT
END:VCALENDAR
