BEGIN:VCALENDAR
VERSION:2.0
PRODID:TU Chemnitz
METHOD:PUBLISH
X-WR-CALNAME:Veranstaltungen der TU Chemnitz
X-WR-TIMEZONE:Europe/Berlin
BEGIN:VEVENT
CLASS:PUBLIC
DTSTART;TZID="Europe/Berlin":20141001T180000
DTEND;TZID="Europe/Berlin":20141001T180000
LOCATION:Veranstaltungsraum des Tietz
SUMMARY:Prämierung und Lesung der Texte aus dem Schreibwettbwerb (Philosophische Fakultät)
DESCRIPTION:claudia.kanz@phil.tu-chemnitz.de
ORGANIZER:MAILTO:claudia.kanz@phil.tu-chemnitz.de
UID:16370@www.tu-chemnitz.de
CREATED:20140925T093400Z
DTSTAMP:20210802T190009Z
END:VEVENT
END:VCALENDAR
