BEGIN:VCALENDAR
VERSION:2.0
PRODID:TU Chemnitz
METHOD:PUBLISH
X-WR-CALNAME:Veranstaltungen der TU Chemnitz
X-WR-TIMEZONE:Europe/Berlin
BEGIN:VEVENT
CLASS:PUBLIC
DTSTART;TZID="Europe/Berlin":20010916T140000
DTEND;TZID="Europe/Berlin":20010928T120000
LOCATION:Uni-Teil 3: Reichenhainer Str. 70\, Chemnitz (Zentr. Hörsaal- und Seminargebäude)
SUMMARY:WE-Heraeus-Ferienkurs für Physik: Organische Oberflächen und Grenzflächen-Das Interface zur Biowelt (Fakultät für Naturwissenschaften\, Institut für Physik\, HLPH/AFKO)
DESCRIPTION:8-er Heraeus Ferienkurs in Folge an der TU Chemnitz!\nPhysik: Prof. Dr. D.R.T. Zahn\, Prof. Dr. M. Hietschold\nheraeus@physik.tu-chemnitz.de\, Tel. 0371/531 3006
ORGANIZER:MAILTO:sumar@hrz.tu-chemnitz.de
UID:1637@www.tu-chemnitz.de
CREATED:20010417T130800Z
DTSTAMP:20210802T202712Z
END:VEVENT
END:VCALENDAR
