BEGIN:VCALENDAR
VERSION:2.0
PRODID:TU Chemnitz
METHOD:PUBLISH
X-WR-CALNAME:Veranstaltungen der TU Chemnitz
X-WR-TIMEZONE:Europe/Berlin
BEGIN:VEVENT
CLASS:PUBLIC
DTSTART;TZID="Europe/Berlin":20141104T153000
DTEND;TZID="Europe/Berlin":20141104T170000
LOCATION:Reichenhainer Str. 90\, Chemnitz (Zentr. Hörsaal- und Seminargebäude)
SUMMARY:Geschichte der Puppentheater in der Chemnitzer Region  (Seniorenkolleg)
DESCRIPTION:Lars Rebehn\, Puppentheatersammlung der Staatlichen Kunstsammlungen Dresden\ndienstags von 10 bis 14 Uhr\, 0371 531-19075\, -19074
ORGANIZER:MAILTO:chhae@hrz.tu-chemnitz.de
UID:16369@www.tu-chemnitz.de
CREATED:20140925T093400Z
DTSTAMP:20210802T185818Z
END:VEVENT
END:VCALENDAR
