BEGIN:VCALENDAR
VERSION:2.0
PRODID:TU Chemnitz
METHOD:PUBLISH
X-WR-CALNAME:Veranstaltungen der TU Chemnitz
X-WR-TIMEZONE:Europe/Berlin
BEGIN:VEVENT
CLASS:PUBLIC
DTSTART;TZID="Europe/Berlin":20141021T153000
DTEND;TZID="Europe/Berlin":20141021T170000
LOCATION:Reichenhainer Str. 90\, Chemnitz (Zentr. Hörsaal- und Seminargebäude)
SUMMARY:Prometheus - eine weltliterarische Schlüsselfigur (Seniorenkolleg)
DESCRIPTION:Prof. Dr. Bernadette Malinowski\, TU Chemnitz\ndienstags von 10 bis 14 Uhr\, 0371 531-19075\, -19074
ORGANIZER:MAILTO:chhae@hrz.tu-chemnitz.de
UID:16367@www.tu-chemnitz.de
CREATED:20140925T092800Z
DTSTAMP:20210802T190003Z
END:VEVENT
END:VCALENDAR
