BEGIN:VCALENDAR
VERSION:2.0
PRODID:TU Chemnitz
METHOD:PUBLISH
X-WR-CALNAME:Veranstaltungen der TU Chemnitz
X-WR-TIMEZONE:Europe/Berlin
BEGIN:VEVENT
CLASS:PUBLIC
DTSTART;TZID="Europe/Berlin":20141007T153000
DTEND;TZID="Europe/Berlin":20141007T170000
LOCATION:Reichenhainer Str. 90\, Chemnitz (Zentr. Hörsaal- und Seminargebäude)
SUMMARY:Umoja - das Dorf der Frauen in Afrika (Seniorenkolleg)
DESCRIPTION:Rebecca Lolosoli\, Kenia\, Ursel Schmitz\, Egmont Elschner\, Chemnitz\ndienstags von 10 bis 14 Uhr\, 0371 531-19075\, -19074
ORGANIZER:MAILTO:chhae@hrz.tu-chemnitz.de
UID:16365@www.tu-chemnitz.de
CREATED:20140925T092200Z
DTSTAMP:20210802T190008Z
END:VEVENT
END:VCALENDAR
