BEGIN:VCALENDAR
VERSION:2.0
PRODID:TU Chemnitz
METHOD:PUBLISH
X-WR-CALNAME:Veranstaltungen der TU Chemnitz
X-WR-TIMEZONE:Europe/Berlin
BEGIN:VEVENT
CLASS:PUBLIC
DTSTART;TZID="Europe/Berlin":20140930T153000
DTEND;TZID="Europe/Berlin":20140930T170000
LOCATION:Reichenhainer Str. 90\, Chemnitz (Zentr. Hörsaal- und Seminargebäude)
SUMMARY:Kulturgutschutz in Kriegen und Katastophen. Aus der Arbeit eines internationalen Krisenstabs. (Seniorenkolleg)
DESCRIPTION:Dr. Thomas Schuler\, Chemnitz\ndienstags von 10 bis 14 Uhr\, 0371 531-19075\, -19074
ORGANIZER:MAILTO:chhae@hrz.tu-chemnitz.de
UID:16364@www.tu-chemnitz.de
CREATED:20140925T091900Z
DTSTAMP:20210802T190148Z
END:VEVENT
END:VCALENDAR
