BEGIN:VCALENDAR
VERSION:2.0
PRODID:TU Chemnitz
METHOD:PUBLISH
X-WR-CALNAME:Veranstaltungen der TU Chemnitz
X-WR-TIMEZONE:Europe/Berlin
BEGIN:VEVENT
CLASS:PUBLIC
DTSTART;TZID="Europe/Berlin":20150220T200000
DTEND;TZID="Europe/Berlin":20150220T200000
LOCATION:Reichenhainer Str. 90\, Chemnitz (Zentr. Hörsaal- und Seminargebäude)
SUMMARY:Argentinien - Abenteuer zwischen Tropen und Eis (BoofeLaden\, Bernsdorfer Str.68\, 09126 Chemnitz)
DESCRIPTION:Argentinien–Synonym für erotischen Tango\, tropische Wasserfälle\, farbenprächtige Hochwüsten\, harte Gauchos in der weiten Pampa. Seit Jahren unternimmt Heiko Beyer Touren in die verschiedensten Ecken des Landes.\n Heiko Beyer (Vision21)\nPREIS: 10\,00 EUR\, ermäßigt 8\,00 EUR
ORGANIZER:MAILTO:julita.schmidt@verwaltung.tu-chemnitz.de
UID:16353@www.tu-chemnitz.de
CREATED:20140923T114200Z
DTSTAMP:20210802T185444Z
END:VEVENT
END:VCALENDAR
