BEGIN:VCALENDAR
VERSION:2.0
PRODID:TU Chemnitz
METHOD:PUBLISH
X-WR-CALNAME:Veranstaltungen der TU Chemnitz
X-WR-TIMEZONE:Europe/Berlin
BEGIN:VEVENT
CLASS:PUBLIC
DTSTART;TZID="Europe/Berlin":20150123T200000
DTEND;TZID="Europe/Berlin":20150123T200000
LOCATION:Reichenhainer Str. 90\, Chemnitz (Zentr. Hörsaal- und Seminargebäude)
SUMMARY:Norwegen – Die Entdeckung der Landschaft  ( BoofeLaden\, Bernsdorfer Str.68\, 09126 Chemnitz)
DESCRIPTION:Über 15 Monate lang ist Gereon Roemer während vieler Reisen zu allen Jahreszeiten in Norwegen unterwegs gewesen. Wieder und wieder zieht es ihn mit der Kamera zu den malerischen Fjorden und faszinierenden Landschaften.\nGereon Roemer\nPREIS: 13\,00 EUR\, ermäßigt 11\,00 EUR
ORGANIZER:MAILTO:julita.schmidt@verwaltung.tu-chemnitz.de
UID:16351@www.tu-chemnitz.de
CREATED:20140923T113600Z
DTSTAMP:20210802T185553Z
END:VEVENT
END:VCALENDAR
