BEGIN:VCALENDAR
VERSION:2.0
PRODID:TU Chemnitz
METHOD:PUBLISH
X-WR-CALNAME:Veranstaltungen der TU Chemnitz
X-WR-TIMEZONE:Europe/Berlin
BEGIN:VEVENT
CLASS:PUBLIC
DTSTART;TZID="Europe/Berlin":20010426T173000
DTEND;TZID="Europe/Berlin":20010426T193000
LOCATION:Uni-Teil 3: Reichenhainer Str. 70\, Chemnitz (Zentr. Hörsaal- und Seminargebäude)
SUMMARY:Was wird aus der New Economy? Strategien ... (LHG-Chemnitz)
DESCRIPTION:Ziel der Veranstaltungen soll sein\, Studenten zu ermutigen\, trotz Nemax unter 2000 und großer Zurückhaltung seitens Venture Capitalgebern das Ziel der eigenen Selbststandigkeit zu verfolgen und umzusetzen. Engagierte Bürger sind hier und jetzt gefordert.\nJan Burdinski\nJoerg Sieber\, 0371/5610285\, joerg.sieber@julis.de
ORGANIZER:MAILTO:josi@hrz.tu-chemnitz.de
UID:1635@www.tu-chemnitz.de
CREATED:20010414T173100Z
DTSTAMP:20210802T202759Z
END:VEVENT
END:VCALENDAR
