BEGIN:VCALENDAR
VERSION:2.0
PRODID:TU Chemnitz
METHOD:PUBLISH
X-WR-CALNAME:Veranstaltungen der TU Chemnitz
X-WR-TIMEZONE:Europe/Berlin
BEGIN:VEVENT
CLASS:PUBLIC
DTSTART;TZID="Europe/Berlin":20141128T200000
DTEND;TZID="Europe/Berlin":20141128T200000
LOCATION:Reichenhainer Str. 90\, Chemnitz (Zentr. Hörsaal- und Seminargebäude)
SUMMARY:Sehnsucht Torre (BoofeLaden\, Bernsdorfer Str.68\, 09126 Chemnitz)
DESCRIPTION:2005 ist Kletterprofi Thomas Huber von den HuberBuam das erste Mal in den Bergen Patagoniens unterwegs. In diesem Jahr „überschritt“ er zusammen mit Andi Schnarf in 30 Stunden die schwiergen Gipfel Cerro Standhart\, Punta Heron und Torre Egger.\nThomas Huber (HuberBuam)\nPREIS: 15\,00 EUR\, ermäßigt 13\,00 EUR
ORGANIZER:MAILTO:julita.schmidt@verwaltung.tu-chemnitz.de
UID:16349@www.tu-chemnitz.de
CREATED:20140923T113000Z
DTSTAMP:20210802T185812Z
END:VEVENT
END:VCALENDAR
