BEGIN:VCALENDAR
VERSION:2.0
PRODID:TU Chemnitz
METHOD:PUBLISH
X-WR-CALNAME:Veranstaltungen der TU Chemnitz
X-WR-TIMEZONE:Europe/Berlin
BEGIN:VEVENT
CLASS:PUBLIC
DTSTART;TZID="Europe/Berlin":20150122T160000
DTEND;TZID="Europe/Berlin":20150122T180000
LOCATION:Str. der Nationen 62\, Chemnitz (Böttcher-Bau)
SUMMARY:GDCh-Kolloquium "Chemisches Design von Anorganisch-Organischen Grenzflächen" (TU Chemnitz\, Fakultät Naturwissenschaften\, Institut für Chemie)
DESCRIPTION:Prof. Dr. Guido Kickelbick - Universität des Saarlandes - Anorganische Festkörperchemie\nJuniorprofessor Dr. Joachim Friedrich\, 0371/ 531 39415
ORGANIZER:MAILTO:jeanette.doerr@chemie.tu-chemnitz.de
UID:16332@www.tu-chemnitz.de
CREATED:20140916T081200Z
DTSTAMP:20210802T185559Z
END:VEVENT
END:VCALENDAR
