BEGIN:VCALENDAR
VERSION:2.0
PRODID:TU Chemnitz
METHOD:PUBLISH
X-WR-CALNAME:Veranstaltungen der TU Chemnitz
X-WR-TIMEZONE:Europe/Berlin
BEGIN:VEVENT
CLASS:PUBLIC
DTSTART;TZID="Europe/Berlin":20141117T153000
DTEND;TZID="Europe/Berlin":20141117T170000
LOCATION:Reichenhainer Str. 90\, Chemnitz (Zentr. Hörsaal- und Seminargebäude)
SUMMARY:Auslandspraktika in Europa mit Erasmus+  (Internationales Universitätszentrum)
DESCRIPTION:Auslandspraktika in Europa mit dem Erasmus+ Programm - Heute informiert das LEONARDO BÜRO SACHSEN im Zusammenarbeit mit dem IUZ über alle wichtigen Aspekte der finanziellen Förderung sowie zu organisatorischen Fragen. Vorbeischauen lohnt sich!\nEnrico Anton (LEONARDO BÜRO)\, Oliver Sachs (IUZ)\nOliver Sachs\, 0371 531 37972\, oliver.sachs@iuz.tu-chemnitz.de
ORGANIZER:MAILTO:oliver.sachs@iuz.tu-chemnitz.de
UID:16322@www.tu-chemnitz.de
CREATED:20140911T141400Z
DTSTAMP:20210802T185820Z
END:VEVENT
END:VCALENDAR
