BEGIN:VCALENDAR
VERSION:2.0
PRODID:TU Chemnitz
METHOD:PUBLISH
X-WR-CALNAME:Veranstaltungen der TU Chemnitz
X-WR-TIMEZONE:Europe/Berlin
BEGIN:VEVENT
CLASS:PUBLIC
DTSTART;TZID="Europe/Berlin":20010709T183000
DTEND;TZID="Europe/Berlin":20010709T200000
LOCATION:Uni-Teil 9: Wilhelm-Raabe-Str. 43\, Chemnitz
SUMMARY:Freiberufliche Tätigkeit im Bereich Training\, Beratung\, Gesundheitserziehung (Philosophische Fakultät\, Praktikumsamt)
DESCRIPTION:Veranstaltung im Rahmen der Vortragsreihe <Berufsfelderkundung für PsychologInnen>.\nDr. Renate Matthesius\, Dipl.-Psychologin\, Leipzig\nkarla.kebsch@phil.tu-chemnitz.de
ORGANIZER:MAILTO:keka@hrz.tu-chemnitz.de
UID:1630@www.tu-chemnitz.de
CREATED:20010409T134400Z
DTSTAMP:20210802T202722Z
END:VEVENT
END:VCALENDAR
