BEGIN:VCALENDAR
VERSION:2.0
PRODID:TU Chemnitz
METHOD:PUBLISH
X-WR-CALNAME:Veranstaltungen der TU Chemnitz
X-WR-TIMEZONE:Europe/Berlin
BEGIN:VEVENT
CLASS:PUBLIC
DTSTART;TZID="Europe/Berlin":20140827T140000
DTEND;TZID="Europe/Berlin":20140827T160000
LOCATION:Pegasus-Center\, Chemnitz
SUMMARY:Fachspezifische Sprechstunde für Studenten der IKK\, Germanistik und der Anglistik (Universitätsbibliothek)
DESCRIPTION:Katja Knop\, M. A.\nKatja Knop\, Tel. 531-31705\, katja.knop@bibliothek.tu-chemnitz.de
ORGANIZER:MAILTO:katja.knop@bibliothek.tu-chemnitz.de
UID:16287@www.tu-chemnitz.de
CREATED:20140827T090300Z
DTSTAMP:20210802T190303Z
END:VEVENT
END:VCALENDAR
