BEGIN:VCALENDAR
VERSION:2.0
PRODID:TU Chemnitz
METHOD:PUBLISH
X-WR-CALNAME:Veranstaltungen der TU Chemnitz
X-WR-TIMEZONE:Europe/Berlin
BEGIN:VEVENT
CLASS:PUBLIC
DTSTART;TZID="Europe/Berlin":20140816T170000
DTEND;TZID="Europe/Berlin":20140816T170000
LOCATION:Festivalgelände Rosenplatz in Bernsdorf 
SUMMARY:Workshop: Interaktion im Raum (Begehungen Chemnitz)
DESCRIPTION:Carolin Gerlach\n21.00 Uhr Band: Nausica
ORGANIZER:MAILTO:julita-magdalena.schmidt@s2004.tu-chemnitz.de
UID:16248@www.tu-chemnitz.de
CREATED:20140723T125600Z
DTSTAMP:20210802T190303Z
END:VEVENT
END:VCALENDAR
