BEGIN:VCALENDAR
VERSION:2.0
PRODID:TU Chemnitz
METHOD:PUBLISH
X-WR-CALNAME:Veranstaltungen der TU Chemnitz
X-WR-TIMEZONE:Europe/Berlin
BEGIN:VEVENT
CLASS:PUBLIC
DTSTART;TZID="Europe/Berlin":20140810T140000
DTEND;TZID="Europe/Berlin":20140810T170000
LOCATION:Rosenplatz 
SUMMARY:Tag des Offenen Ateliers (Begehungen Chemnitz )
DESCRIPTION:https://www.facebook.com/events/619386114835081/
ORGANIZER:MAILTO:julita-magdalena.schmidt@s2004.tu-chemnitz.de
UID:16247@www.tu-chemnitz.de
CREATED:20140723T125200Z
DTSTAMP:20210802T190302Z
END:VEVENT
END:VCALENDAR
