BEGIN:VCALENDAR
VERSION:2.0
PRODID:TU Chemnitz
METHOD:PUBLISH
X-WR-CALNAME:Veranstaltungen der TU Chemnitz
X-WR-TIMEZONE:Europe/Berlin
BEGIN:VEVENT
CLASS:PUBLIC
DTSTART;TZID="Europe/Berlin":20140731T200000
DTEND;TZID="Europe/Berlin":20140731T200000
LOCATION:Lokomov (Augustusburger Straße 102\, 09126 Chemnitz) 
SUMMARY:'Wer zahlt das denn alles?'* - Podiumsdiskussion zum Wert der Kunst  (Begehungen Chemnitz )
DESCRIPTION:https://www.facebook.com/events/765141156865829/?ref=22
ORGANIZER:MAILTO:julita-magdalena.schmidt@s2004.tu-chemnitz.de
UID:16246@www.tu-chemnitz.de
CREATED:20140723T124900Z
DTSTAMP:20210802T190407Z
END:VEVENT
END:VCALENDAR
