BEGIN:VCALENDAR
VERSION:2.0
PRODID:TU Chemnitz
METHOD:PUBLISH
X-WR-CALNAME:Veranstaltungen der TU Chemnitz
X-WR-TIMEZONE:Europe/Berlin
BEGIN:VEVENT
CLASS:PUBLIC
DTSTART;TZID="Europe/Berlin":20140701T173000
DTEND;TZID="Europe/Berlin":20140701T190000
LOCATION:Thüringer Weg 7 / K012
SUMMARY:Chemnitzer wirtschaftswissenschaftliches Forschungsseminar (Fakultät für Wirtschaftswissenschaften\, Commerzbank Stiftungsprofessur)
DESCRIPTION:Die Gastreferentin Prof. Dr. Xiuquin Lin von der Xiamen Universität in China spricht zum Thema "Interaction between Antitrust and Intellectual Property Law in China".\nProf. Dr. Xiuquin Lin\nMarius Grathwohl\, Tel.: 0371/531-39829\, marius.grathwohl@wirtschaft.tu-chemnitz.de
ORGANIZER:MAILTO:florian.opitz@s2002.tu-chemnitz.de
UID:16223@www.tu-chemnitz.de
CREATED:20140630T130300Z
DTSTAMP:20210802T190359Z
END:VEVENT
END:VCALENDAR
