BEGIN:VCALENDAR
VERSION:2.0
PRODID:TU Chemnitz
METHOD:PUBLISH
X-WR-CALNAME:Veranstaltungen der TU Chemnitz
X-WR-TIMEZONE:Europe/Berlin
BEGIN:VEVENT
CLASS:PUBLIC
DTSTART;TZID="Europe/Berlin":20010509T170000
DTEND;TZID="Europe/Berlin":20010509T183000
LOCATION:Uni-Teil 3: Reichenhainer Str. 70\, Chemnitz (Weinhold-Bau)
SUMMARY:Einsatz von Multimedien in der Physiklehre (Fakultät für Naturwissenschaften\, Institut für Physik)
DESCRIPTION:Physikalisches Kolloquium\nProf. Dr. H.-J. Jodl\, Fachbereich Physik\, Universität Kaiserslautern\nProf. Dr. H.-J. Hinneberg\, Tel. 3098
ORGANIZER:MAILTO:sumar@hrz.tu-chemnitz.de
UID:1622@www.tu-chemnitz.de
CREATED:20010406T133800Z
DTSTAMP:20210802T202742Z
END:VEVENT
END:VCALENDAR
