BEGIN:VCALENDAR
VERSION:2.0
PRODID:TU Chemnitz
METHOD:PUBLISH
X-WR-CALNAME:Veranstaltungen der TU Chemnitz
X-WR-TIMEZONE:Europe/Berlin
BEGIN:VEVENT
CLASS:PUBLIC
DTSTART;TZID="Europe/Berlin":20140702T153000
DTEND;TZID="Europe/Berlin":20140702T170000
LOCATION:Reichenhainer Str. 90\, Chemnitz (Zentr. Hörsaal- und Seminargebäude)
SUMMARY:Vollversammlung der Vertretung des akademischen Mittelbaus der TU Chemnitz (VAMC) (VAMC)
DESCRIPTION:Aktuelles zur Beschäftigungs-/Qualifikationssituation des wissenschaftlichen Nachwuchses (u.a. Präsentation der Ergebnisse der Mitarbeiterbefragung 2013) und anschließend offene Gesprächsrunde zu diesem Thema mit unserem Rektor\, Prof. Dr. van Zyl.\nvamc-kontakt@tu-chemnitz.de
ORGANIZER:MAILTO:andreas.neubert@phil.tu-chemnitz.de
UID:16219@www.tu-chemnitz.de
CREATED:20140626T214500Z
DTSTAMP:20210802T190407Z
END:VEVENT
END:VCALENDAR
