BEGIN:VCALENDAR
VERSION:2.0
PRODID:TU Chemnitz
METHOD:PUBLISH
X-WR-CALNAME:Veranstaltungen der TU Chemnitz
X-WR-TIMEZONE:Europe/Berlin
BEGIN:VEVENT
CLASS:PUBLIC
DTSTART;TZID="Europe/Berlin":20171005T160000
DTEND;TZID="Europe/Berlin":20171005T193000
LOCATION:Richard-Hartmann-Halle
SUMMARY:Immatrikulations- und Auftaktfeier 2017/2018 (TU Chemnitz)
DESCRIPTION:Alle neuen Studierenden an der TU Chemnitz werden feierlich begrüßt. Festakt: 17:00 Uhr bis ca. 18:30 Uhr\, Infomesse: 16:00 Uhr bis ca. 19:30 Uhr\nUniversitätskommunikation: 0371 531-11111\, kommunikation@tu-chemnitz.de
ORGANIZER:MAILTO:julita.schmidt@verwaltung.tu-chemnitz.de
UID:16207@www.tu-chemnitz.de
CREATED:20140620T115200Z
DTSTAMP:20210802T185641Z
END:VEVENT
END:VCALENDAR
