BEGIN:VCALENDAR
VERSION:2.0
PRODID:TU Chemnitz
METHOD:PUBLISH
X-WR-CALNAME:Veranstaltungen der TU Chemnitz
X-WR-TIMEZONE:Europe/Berlin
BEGIN:VEVENT
CLASS:PUBLIC
DTSTART;TZID="Europe/Berlin":20170520T100000
DTEND;TZID="Europe/Berlin":20170520T140000
LOCATION:Str. der Nationen 62\, Chemnitz (Böttcher-Bau)
SUMMARY:Tag der offenen Tür (TU Chemnitz)
DESCRIPTION:Lernen Sie in Informationsveranstaltungen\, Specials und Besichtigungen von Versuchsfeldern und Laboren die Studienmöglichkeiten und -bedingungen vor Ort kennen.\nUniversitätskommunikation: 0371 531-11111\, kommunikation@tu-chemnitz.de
ORGANIZER:MAILTO:julita.schmidt@verwaltung.tu-chemnitz.de
UID:16199@www.tu-chemnitz.de
CREATED:20140620T092800Z
DTSTAMP:20210802T185004Z
END:VEVENT
END:VCALENDAR
