BEGIN:VCALENDAR
VERSION:2.0
PRODID:TU Chemnitz
METHOD:PUBLISH
X-WR-CALNAME:Veranstaltungen der TU Chemnitz
X-WR-TIMEZONE:Europe/Berlin
BEGIN:VEVENT
CLASS:PUBLIC
DTSTART;TZID="Europe/Berlin":20171104T140000
DTEND;TZID="Europe/Berlin":20171104T160000
LOCATION:Theaterplatz 
SUMMARY:Graduiertenfeier II/2017 (TU Chemnitz)
DESCRIPTION:Für alle Absolventen des  WS 2016/2017: Die TU Chemnitz möchte zum erfolgreichen Abschluss gratulieren und im festlichen Rahmen den Beginn eines neuen Lebensabschnittes feiern.\nUniversitätskommunikation: 0371 531-11111\, kommunikation@tu-chemnitz.de
ORGANIZER:MAILTO:julita.schmidt@verwaltung.tu-chemnitz.de
UID:16198@www.tu-chemnitz.de
CREATED:20140620T091800Z
DTSTAMP:20210802T185805Z
END:VEVENT
END:VCALENDAR
