BEGIN:VCALENDAR
VERSION:2.0
PRODID:TU Chemnitz
METHOD:PUBLISH
X-WR-CALNAME:Veranstaltungen der TU Chemnitz
X-WR-TIMEZONE:Europe/Berlin
BEGIN:VEVENT
CLASS:PUBLIC
DTSTART;TZID="Europe/Berlin":20140617T160000
DTEND;TZID="Europe/Berlin":20140617T173000
LOCATION:Reichenhainer Str. 90\, Chemnitz (Zentr. Hörsaal- und Seminargebäude)
SUMMARY:Kunststofftechnisches Kolloquium (Fakultät für Maschinenbau\, Professur Kunststoffe)
DESCRIPTION:Thema: EigenEnergieErzeugung - Prozessenergie effizient selbst herstellen\nJoern Stadtlander\, StaRS & Co.\nfakultative Veranstaltung\, keine Anmeldung erforderlich
ORGANIZER:MAILTO:sven.mauersberger@mb.tu-chemnitz.de
UID:16181@www.tu-chemnitz.de
CREATED:20140617T075500Z
DTSTAMP:20210802T190504Z
END:VEVENT
END:VCALENDAR
