BEGIN:VCALENDAR
VERSION:2.0
PRODID:TU Chemnitz
METHOD:PUBLISH
X-WR-CALNAME:Veranstaltungen der TU Chemnitz
X-WR-TIMEZONE:Europe/Berlin
BEGIN:VEVENT
CLASS:PUBLIC
DTSTART;TZID="Europe/Berlin":20140623T113000
DTEND;TZID="Europe/Berlin":20140623T130000
LOCATION:Str. der Nationen 62\, Chemnitz (Böttcher-Bau)
SUMMARY:Politische Aktualität in Katalonien  (Philosophische Fakultät\, Profesur Kultureller und Sozialer Wandel)
DESCRIPTION:Núria Codina und Òscar Bernaus werden über Aspekte der Aktualität Kataloniens – das Referendum über die Unabhängigkeit\, die Abdankung Juan Carlos I. und die Europawahl – mit Interessenten debattieren.\nNúria Codina und Òscar Bernaus\nProf. Dr. Teresa Pinheiro
ORGANIZER:MAILTO:teresa.pinheiro@phil.tu-chemnitz.de
UID:16179@www.tu-chemnitz.de
CREATED:20140616T143800Z
DTSTAMP:20210802T190459Z
END:VEVENT
END:VCALENDAR
