BEGIN:VCALENDAR
VERSION:2.0
PRODID:TU Chemnitz
METHOD:PUBLISH
X-WR-CALNAME:Veranstaltungen der TU Chemnitz
X-WR-TIMEZONE:Europe/Berlin
BEGIN:VEVENT
CLASS:PUBLIC
DTSTART;TZID="Europe/Berlin":20140624T113000
DTEND;TZID="Europe/Berlin":20140624T113000
LOCATION:Reichenhainer Str. 90\, Chemnitz (Zentr. Hörsaal- und Seminargebäude)
SUMMARY:A Disunited Kingdom? Scottish Independence and the Break-up of Britain (Philosophische Fakultät\, Prof. Dr. Klaus Stolz\, Britische und Amerikanische Kultur- und Länderstudien)
DESCRIPTION:Gerry Mooney (ein Befürworter schottischer Unabhängigkeit\, aber kein Nationalist) spricht über die wichtigsten Ursachen für das Unabhängigkeitsreferendum und die potentiellen Konsequenzen für Schottland und das Vereinigte Königreich.\nDr. Gerry Mooney (Open University Scotland)\nkeine Anmeldung erforderlich\, Informationen unter klaus.stolz@phil.tu-chemnitz.de
ORGANIZER:MAILTO:klaus.stolz@phil.tu-chemnitz.de
UID:16160@www.tu-chemnitz.de
CREATED:20140606T103800Z
DTSTAMP:20210802T190456Z
END:VEVENT
END:VCALENDAR
