BEGIN:VCALENDAR
VERSION:2.0
PRODID:TU Chemnitz
METHOD:PUBLISH
X-WR-CALNAME:Veranstaltungen der TU Chemnitz
X-WR-TIMEZONE:Europe/Berlin
BEGIN:VEVENT
CLASS:PUBLIC
DTSTART;TZID="Europe/Berlin":20140703T121500
DTEND;TZID="Europe/Berlin":20140703T134500
LOCATION:Reichenhainer Str. 39\, Chemnitz
SUMMARY:Öffentliche Prüfung im Promotionsverfahren (Fakultät für Mathematik)
DESCRIPTION:Dipl.-Math. Martin Stöcker\nPrüfungsvorsitzender ist Prof. Dr. H. Martini
ORGANIZER:MAILTO:mathias.meier@mathematik.tu-chemnitz.de
UID:16150@www.tu-chemnitz.de
CREATED:20140604T071200Z
DTSTAMP:20210802T190412Z
END:VEVENT
END:VCALENDAR
