BEGIN:VCALENDAR
VERSION:2.0
PRODID:TU Chemnitz
METHOD:PUBLISH
X-WR-CALNAME:Veranstaltungen der TU Chemnitz
X-WR-TIMEZONE:Europe/Berlin
BEGIN:VEVENT
CLASS:PUBLIC
DTSTART;TZID="Europe/Berlin":20140618T173000
DTEND;TZID="Europe/Berlin":20140618T193000
LOCATION:Reichenhainer Str. 90\, Chemnitz (Zentr. Hörsaal- und Seminargebäude)
SUMMARY:Schreibwerkstatt zum Schreibwettbewerb (Philosophische Fakultät\, Schreibwerkstatt der Germanistik)
DESCRIPTION:claudia.kanz@phil.tu-chemnitz.de
ORGANIZER:MAILTO:claudia.kanz@phil.tu-chemnitz.de
UID:16142@www.tu-chemnitz.de
CREATED:20140602T143600Z
DTSTAMP:20210802T190458Z
END:VEVENT
END:VCALENDAR
