BEGIN:VCALENDAR
VERSION:2.0
PRODID:TU Chemnitz
METHOD:PUBLISH
X-WR-CALNAME:Veranstaltungen der TU Chemnitz
X-WR-TIMEZONE:Europe/Berlin
BEGIN:VEVENT
CLASS:PUBLIC
DTSTART;TZID="Europe/Berlin":20140528T160000
DTEND;TZID="Europe/Berlin":20140528T173000
LOCATION:Reichenhainer Str. 90\, Chemnitz (Zentr. Hörsaal- und Seminargebäude)
SUMMARY:Physikalisches Kolloquium (Fakultät für Naturwissenschaften\, Institut für Physik)
DESCRIPTION:Thema: "Quantum metrology in the graphene age"\nProf. Alexander Tzalenchuk (National Physics Laboratory\, UK)\nProf. Thomas Seyller
ORGANIZER:MAILTO:angelika.hiller@physik.tu-chemnitz.de
UID:16105@www.tu-chemnitz.de
CREATED:20140513T145000Z
DTSTAMP:20210802T190612Z
END:VEVENT
END:VCALENDAR
