BEGIN:VCALENDAR
VERSION:2.0
PRODID:TU Chemnitz
METHOD:PUBLISH
X-WR-CALNAME:Veranstaltungen der TU Chemnitz
X-WR-TIMEZONE:Europe/Berlin
BEGIN:VEVENT
CLASS:PUBLIC
DTSTART;TZID="Europe/Berlin":20140515T210000
DTEND;TZID="Europe/Berlin":20140515T230000
LOCATION:Kino\, Reichenhainer Str. 35/37\, Keller
SUMMARY:["mittendrin" * campuskino] SHORTS ATTACK: SHORT KICKS - FUSSBALL-FIEBER! (filmclub »mittendrin«)
DESCRIPTION:filmclub@tu-chemnitz.de
ORGANIZER:MAILTO:robert.gerstenberger@s2004.tu-chemnitz.de
UID:16096@www.tu-chemnitz.de
CREATED:20140510T160100Z
DTSTAMP:20210802T190617Z
END:VEVENT
END:VCALENDAR
